BEGIN:VCALENDAR
VERSION:2.0
PRODID:-//Elks Lodge 1199 - ECPv6.15.20//NONSGML v1.0//EN
CALSCALE:GREGORIAN
METHOD:PUBLISH
X-WR-CALNAME:Elks Lodge 1199
X-ORIGINAL-URL:https://bismanelks.com
X-WR-CALDESC:Events for Elks Lodge 1199
REFRESH-INTERVAL;VALUE=DURATION:PT1H
X-Robots-Tag:noindex
X-PUBLISHED-TTL:PT1H
BEGIN:VTIMEZONE
TZID:America/Chicago
BEGIN:DAYLIGHT
TZOFFSETFROM:-0600
TZOFFSETTO:-0500
TZNAME:CDT
DTSTART:20250309T080000
END:DAYLIGHT
BEGIN:STANDARD
TZOFFSETFROM:-0500
TZOFFSETTO:-0600
TZNAME:CST
DTSTART:20251102T070000
END:STANDARD
BEGIN:DAYLIGHT
TZOFFSETFROM:-0600
TZOFFSETTO:-0500
TZNAME:CDT
DTSTART:20260308T080000
END:DAYLIGHT
BEGIN:STANDARD
TZOFFSETFROM:-0500
TZOFFSETTO:-0600
TZNAME:CST
DTSTART:20261101T070000
END:STANDARD
BEGIN:DAYLIGHT
TZOFFSETFROM:-0600
TZOFFSETTO:-0500
TZNAME:CDT
DTSTART:20270314T080000
END:DAYLIGHT
BEGIN:STANDARD
TZOFFSETFROM:-0500
TZOFFSETTO:-0600
TZNAME:CST
DTSTART:20271107T070000
END:STANDARD
END:VTIMEZONE
BEGIN:VEVENT
DTSTART;VALUE=DATE:20260426
DTEND;VALUE=DATE:20260427
DTSTAMP:20260423T102006
CREATED:20241010T195941Z
LAST-MODIFIED:20260402T163410Z
UID:10005621-1777161600-1777247999@bismanelks.com
SUMMARY:Closed
DESCRIPTION:We are closed every Sunday and Monday with the exception to occasional events
URL:https://bismanelks.com/event/closed-2/2026-04-26/
END:VEVENT
BEGIN:VEVENT
DTSTART;VALUE=DATE:20260427
DTEND;VALUE=DATE:20260428
DTSTAMP:20260423T102007
CREATED:20241010T195941Z
LAST-MODIFIED:20260402T163410Z
UID:10005622-1777248000-1777334399@bismanelks.com
SUMMARY:Closed
DESCRIPTION:We are closed every Sunday and Monday with the exception to occasional events
URL:https://bismanelks.com/event/closed-2/2026-04-27/
END:VEVENT
BEGIN:VEVENT
DTSTART;TZID=America/Chicago:20260428T180000
DTEND;TZID=America/Chicago:20260428T210000
DTSTAMP:20260423T102007
CREATED:20240405T171804Z
LAST-MODIFIED:20251209T181627Z
UID:10005127-1777399200-1777410000@bismanelks.com
SUMMARY:Blues Jam
DESCRIPTION:Come on down to the Elks for our Blues Jam every Tuesday 6pm – 9pm\, in the 1199 Speakeasy. This weekly Blues Jam is hosted by Jennifer Lyn & The Groove Revival and is open to musicians and music enthusiasts 21 years of age and older. Guitar amps\, bass\, amp\, keyboard\, vocal mics\, and drums are provided. All musicians are welcome! \nThe Blues Jam will move to the patio in May for the summer months. \nAny changes to the Blues Jam schedule will be posted to our Facebook page.
URL:https://bismanelks.com/event/blues-jam-at-elks-lodge-1199/2026-04-28/
CATEGORIES:Blues Jam,Live Music
END:VEVENT
BEGIN:VEVENT
DTSTART;TZID=America/Chicago:20260429T180000
DTEND;TZID=America/Chicago:20260429T210000
DTSTAMP:20260423T102007
CREATED:20260410T192720Z
LAST-MODIFIED:20260410T192720Z
UID:10006802-1777485600-1777496400@bismanelks.com
SUMMARY:Community Puzzle Contest
DESCRIPTION:This event is hosted and run by Bismarck Lions Club. \n \nGrab your team and join them for a high-energy night of friendly competition\, food\, drinks\, and giving back to our community!\n\n The Challenge:Teams of up to 4 will race to complete a jigsaw puzzle faster than the rest. Think you’ve got what it takes?\n\n Come Early & Come Hungry:The Elks kitchen opens at 5:30 PM\, a perfect time to grab dinner and drinks before the competition kicks off. Food and beverages will be available all night long!\n Event Timeline:\n• 5:00 PM – Lounge Opens\n• 5:30 PM – Kitchen opens• 6:00 PM – Registration opens• 6:30 PM – Puzzle competition begins\n\n Whether you’re a puzzle pro or just in it for the laughs\, this is your night.\n\n Gather your team\, bring your game face\, and let’s puzzle for a purpose! \n\n Huge thanks to our sponsors:Bismarck/Mandan Elks Lodge #1199 (Venue Sponsor)Brady Martz (Puzzle Sponsor)\n \nRESERVE YOUR SPOT HERE: https://www.eventbrite.com/e/bismarck-lions-club-puzzle-contest-registration 
URL:https://bismanelks.com/event/community-puzzle-contest/
CATEGORIES:Family Friendly,Open to the Public
END:VEVENT
BEGIN:VEVENT
DTSTART;TZID=America/Chicago:20260430T173000
DTEND;TZID=America/Chicago:20260430T203000
DTSTAMP:20260423T102007
CREATED:20230912T202112Z
LAST-MODIFIED:20251230T195640Z
UID:10004795-1777570200-1777581000@bismanelks.com
SUMMARY:2 for $20 Burgers
DESCRIPTION:
URL:https://bismanelks.com/event/2-for-20-burgers/2026-04-30/
END:VEVENT
BEGIN:VEVENT
DTSTART;TZID=America/Chicago:20260502T140000
DTEND;TZID=America/Chicago:20260502T190000
DTSTAMP:20260423T102007
CREATED:20260402T165905Z
LAST-MODIFIED:20260402T165912Z
UID:10006800-1777730400-1777748400@bismanelks.com
SUMMARY:Kentucky Derby Party
DESCRIPTION:Come celebrate the 152nd Kentucky Derby with us! \n \nPrizes will be awarded for:– Best Dressed– Best Hat– Best Dressed Group\n \nWe are replacing our regular menu for a special menu for the day. (TBD)
URL:https://bismanelks.com/event/kentucky-derby-party-6/
END:VEVENT
END:VCALENDAR