BEGIN:VCALENDAR
VERSION:2.0
PRODID:-//Elks Lodge 1199 - ECPv6.15.20//NONSGML v1.0//EN
CALSCALE:GREGORIAN
METHOD:PUBLISH
X-ORIGINAL-URL:https://bismanelks.com
X-WR-CALDESC:Events for Elks Lodge 1199
REFRESH-INTERVAL;VALUE=DURATION:PT1H
X-Robots-Tag:noindex
X-PUBLISHED-TTL:PT1H
BEGIN:VTIMEZONE
TZID:America/Chicago
BEGIN:DAYLIGHT
TZOFFSETFROM:-0600
TZOFFSETTO:-0500
TZNAME:CDT
DTSTART:20250309T080000
END:DAYLIGHT
BEGIN:STANDARD
TZOFFSETFROM:-0500
TZOFFSETTO:-0600
TZNAME:CST
DTSTART:20251102T070000
END:STANDARD
BEGIN:DAYLIGHT
TZOFFSETFROM:-0600
TZOFFSETTO:-0500
TZNAME:CDT
DTSTART:20260308T080000
END:DAYLIGHT
BEGIN:STANDARD
TZOFFSETFROM:-0500
TZOFFSETTO:-0600
TZNAME:CST
DTSTART:20261101T070000
END:STANDARD
BEGIN:DAYLIGHT
TZOFFSETFROM:-0600
TZOFFSETTO:-0500
TZNAME:CDT
DTSTART:20270314T080000
END:DAYLIGHT
BEGIN:STANDARD
TZOFFSETFROM:-0500
TZOFFSETTO:-0600
TZNAME:CST
DTSTART:20271107T070000
END:STANDARD
END:VTIMEZONE
BEGIN:VEVENT
DTSTART;VALUE=DATE:20260412
DTEND;VALUE=DATE:20260413
DTSTAMP:20260423T153954
CREATED:20241010T195941Z
LAST-MODIFIED:20260402T163410Z
UID:10005617-1775952000-1776038399@bismanelks.com
SUMMARY:Closed
DESCRIPTION:We are closed every Sunday and Monday with the exception to occasional events
URL:https://bismanelks.com/event/closed-2/2026-04-12/
END:VEVENT
BEGIN:VEVENT
DTSTART;VALUE=DATE:20260413
DTEND;VALUE=DATE:20260414
DTSTAMP:20260423T153954
CREATED:20241010T195941Z
LAST-MODIFIED:20260402T163410Z
UID:10005618-1776038400-1776124799@bismanelks.com
SUMMARY:Closed
DESCRIPTION:We are closed every Sunday and Monday with the exception to occasional events
URL:https://bismanelks.com/event/closed-2/2026-04-13/
END:VEVENT
BEGIN:VEVENT
DTSTART;TZID=America/Chicago:20260414T180000
DTEND;TZID=America/Chicago:20260414T210000
DTSTAMP:20260423T153954
CREATED:20240405T171804Z
LAST-MODIFIED:20251209T181627Z
UID:10005125-1776189600-1776200400@bismanelks.com
SUMMARY:Blues Jam
DESCRIPTION:Come on down to the Elks for our Blues Jam every Tuesday 6pm – 9pm\, in the 1199 Speakeasy. This weekly Blues Jam is hosted by Jennifer Lyn & The Groove Revival and is open to musicians and music enthusiasts 21 years of age and older. Guitar amps\, bass\, amp\, keyboard\, vocal mics\, and drums are provided. All musicians are welcome! \nThe Blues Jam will move to the patio in May for the summer months. \nAny changes to the Blues Jam schedule will be posted to our Facebook page.
URL:https://bismanelks.com/event/blues-jam-at-elks-lodge-1199/2026-04-14/
CATEGORIES:Blues Jam,Live Music
END:VEVENT
BEGIN:VEVENT
DTSTART;TZID=America/Chicago:20260415T190000
DTEND;TZID=America/Chicago:20260415T210000
DTSTAMP:20260423T153954
CREATED:20260119T221726Z
LAST-MODIFIED:20260402T165107Z
UID:10006797-1776279600-1776286800@bismanelks.com
SUMMARY:Line Dancing Lessons
DESCRIPTION:Line Dancing Lessons on the Lodge Floor from 7-9pm.  This event is open to the public\, all ages welcome.  \nNoDak Stompers will be providing the lessons and charge $5 per person at the door (Kids 12 and under are free).  \nSpeakeasy Lounge opens at 5pm.  Kitchen opens at 5:30pm. \n Bar will be open and full TR Bar Menu will be available to order from so stop in early for some supper before dancing.\nDancing starts at 7 pm on Lodge Floor. Tutorials for at least 2 dances. \n \nGrab your friends and join us for a fun-filled evening!\n \n \n \n\n 
URL:https://bismanelks.com/event/line-dancing-lessons-free-6/2026-04-15/
CATEGORIES:Family Friendly,Open to the Public
END:VEVENT
BEGIN:VEVENT
DTSTART;TZID=America/Chicago:20260416T173000
DTEND;TZID=America/Chicago:20260416T203000
DTSTAMP:20260423T153954
CREATED:20230912T202112Z
LAST-MODIFIED:20251230T195640Z
UID:10004793-1776360600-1776371400@bismanelks.com
SUMMARY:2 for $20 Burgers
DESCRIPTION:
URL:https://bismanelks.com/event/2-for-20-burgers/2026-04-16/
END:VEVENT
BEGIN:VEVENT
DTSTART;TZID=America/Chicago:20260416T190000
DTEND;TZID=America/Chicago:20260416T200000
DTSTAMP:20260423T153954
CREATED:20250917T165326Z
LAST-MODIFIED:20250917T165326Z
UID:10006492-1776366000-1776369600@bismanelks.com
SUMMARY:New Member Initiation
DESCRIPTION:New Member Initiation starts at 7pm on the Lodge Floor. (new members please arrive by 6pm) \nLet’s give our candidates being initiated a memorable and moving initiation by filling the Lodge and providing a huge wELKome to them. You can never make a first impression over again\, so let’s give them a great one. But you HAVE to be there to help. \nNew Elks Member Initiation every 3rd Thursday
URL:https://bismanelks.com/event/new-member-initiation-4/2026-04-16/
END:VEVENT
END:VCALENDAR