BEGIN:VCALENDAR
VERSION:2.0
PRODID:-//Elks Lodge 1199 - ECPv6.15.20//NONSGML v1.0//EN
CALSCALE:GREGORIAN
METHOD:PUBLISH
X-ORIGINAL-URL:https://bismanelks.com
X-WR-CALDESC:Events for Elks Lodge 1199
REFRESH-INTERVAL;VALUE=DURATION:PT1H
X-Robots-Tag:noindex
X-PUBLISHED-TTL:PT1H
BEGIN:VTIMEZONE
TZID:America/Chicago
BEGIN:DAYLIGHT
TZOFFSETFROM:-0600
TZOFFSETTO:-0500
TZNAME:CDT
DTSTART:20250309T080000
END:DAYLIGHT
BEGIN:STANDARD
TZOFFSETFROM:-0500
TZOFFSETTO:-0600
TZNAME:CST
DTSTART:20251102T070000
END:STANDARD
BEGIN:DAYLIGHT
TZOFFSETFROM:-0600
TZOFFSETTO:-0500
TZNAME:CDT
DTSTART:20260308T080000
END:DAYLIGHT
BEGIN:STANDARD
TZOFFSETFROM:-0500
TZOFFSETTO:-0600
TZNAME:CST
DTSTART:20261101T070000
END:STANDARD
BEGIN:DAYLIGHT
TZOFFSETFROM:-0600
TZOFFSETTO:-0500
TZNAME:CDT
DTSTART:20270314T080000
END:DAYLIGHT
BEGIN:STANDARD
TZOFFSETFROM:-0500
TZOFFSETTO:-0600
TZNAME:CST
DTSTART:20271107T070000
END:STANDARD
END:VTIMEZONE
BEGIN:VEVENT
DTSTART;TZID=America/Chicago:20260208T140000
DTEND;TZID=America/Chicago:20260208T220000
DTSTAMP:20260421T013021
CREATED:20260119T215418Z
LAST-MODIFIED:20260119T220425Z
UID:10006653-1770559200-1770588000@bismanelks.com
SUMMARY:Super Bowl Potluck Party
DESCRIPTION:Please note this is a Potluck Party (in the TR Bar)\, so you must bring some sort of food to share with your fellow members.\nIf you are unable to bring food\, it will be $20 per person to get in. \nElks will be bringing Chili and popcorn.\nWe are offering a super great drink special: All drinks will be $3.25 from 2:00pm till end of game.\nThis event is for paid members only.\nKitchen will be closed. Only food available will be what people bring.\nJoin the conversation on Facebook to share what food you plan on bringing!  Facebook Event Page
URL:https://bismanelks.com/event/super-bowl-potluck-party-2/
LOCATION:TR Bar
END:VEVENT
BEGIN:VEVENT
DTSTART;VALUE=DATE:20260209
DTEND;VALUE=DATE:20260210
DTSTAMP:20260421T013021
CREATED:20241010T195941Z
LAST-MODIFIED:20260402T163410Z
UID:10005600-1770595200-1770681599@bismanelks.com
SUMMARY:Closed
DESCRIPTION:We are closed every Sunday and Monday with the exception to occasional events
URL:https://bismanelks.com/event/closed-2/2026-02-09/
END:VEVENT
BEGIN:VEVENT
DTSTART;TZID=America/Chicago:20260210T180000
DTEND;TZID=America/Chicago:20260210T210000
DTSTAMP:20260421T013021
CREATED:20240405T171804Z
LAST-MODIFIED:20251209T181627Z
UID:10005116-1770746400-1770757200@bismanelks.com
SUMMARY:Blues Jam
DESCRIPTION:Come on down to the Elks for our Blues Jam every Tuesday 6pm – 9pm\, in the 1199 Speakeasy. This weekly Blues Jam is hosted by Jennifer Lyn & The Groove Revival and is open to musicians and music enthusiasts 21 years of age and older. Guitar amps\, bass\, amp\, keyboard\, vocal mics\, and drums are provided. All musicians are welcome! \nThe Blues Jam will move to the patio in May for the summer months. \nAny changes to the Blues Jam schedule will be posted to our Facebook page.
URL:https://bismanelks.com/event/blues-jam-at-elks-lodge-1199/2026-02-10/
CATEGORIES:Blues Jam,Live Music
END:VEVENT
BEGIN:VEVENT
DTSTART;TZID=America/Chicago:20260212T173000
DTEND;TZID=America/Chicago:20260212T203000
DTSTAMP:20260421T013021
CREATED:20230912T202112Z
LAST-MODIFIED:20251230T195640Z
UID:10004784-1770917400-1770928200@bismanelks.com
SUMMARY:2 for $20 Burgers
DESCRIPTION:
URL:https://bismanelks.com/event/2-for-20-burgers/2026-02-12/
END:VEVENT
BEGIN:VEVENT
DTSTART;TZID=America/Chicago:20260213T173000
DTEND;TZID=America/Chicago:20260213T183000
DTSTAMP:20260421T013021
CREATED:20260204T220516Z
LAST-MODIFIED:20260204T220516Z
UID:10006770-1771003800-1771007400@bismanelks.com
SUMMARY:Prospective Member Night
DESCRIPTION:We can’t grow without YOU!!  \nCurrent Members:  Bring in a new prospective member with a completed application & application fee payment and you both get rewarded with a $10 gift card.\nMUST pay application fee on Friday\, February 13th to redeem offer. \nElks Officers will be available to give tours upon request. 
URL:https://bismanelks.com/event/prospective-member-night-2/
END:VEVENT
BEGIN:VEVENT
DTSTART;TZID=America/Chicago:20260214T120000
DTEND;TZID=America/Chicago:20260214T140000
DTSTAMP:20260421T013021
CREATED:20251013T173026Z
LAST-MODIFIED:20251015T165319Z
UID:10006513-1771070400-1771077600@bismanelks.com
SUMMARY:Seafood Saturday
DESCRIPTION:Seafood Saturday at the Bismarck-Mandan Elks #1199 is every week from October to March in the TR Bar (21 and over only) AND in the Speakeasy Lounge (family friendly and handicap accessible) from 12:00-2:00pm.  There are seafood and non-seafood options (shown in menu below) plus one Seafood Special that changes every week. \nVisit our Facebook page to see what the weekly Seafood Special is (usually posted the day before when possible): https://www.facebook.com/elkslodge \nTips left for the Volunteer Team running Seafood Saturday each week will be donated to the team’s charity of choice. 
URL:https://bismanelks.com/event/seafood-saturday-elks-lodge-1199/2026-02-14/
END:VEVENT
BEGIN:VEVENT
DTSTART;TZID=America/Chicago:20260214T143000
DTEND;TZID=America/Chicago:20260214T163000
DTSTAMP:20260421T013021
CREATED:20260119T220826Z
LAST-MODIFIED:20260119T220912Z
UID:10006672-1771079400-1771086600@bismanelks.com
SUMMARY:Trivia at the Elks (Season 6)
DESCRIPTION:Join us every Saturday in the TR Bar for Trivia Saturdays at 2:30pm. (please note the new start time\, used to be at 2pm)\n \nTeams can have up to 8 people.\nParticipate each week. Teams have a chance to win a round of drinks in each half and there will be a gift card for the overall point winner for the day.\n \nIn addition to regular single Saturdays\, team points will be accumulated through each week in “Seasons”.\n\nSeason 6: January 3 – March 29\n\nAt the end of each season\, the top 3 teams won a gift card for their accumulated points. \nMinor change this year:  Teams will need to bring their answer sheets to the gaming table to be checked.  We will not be going to each table to grade sheets this year. \n \nHappy Hour specials from 2-4pm.
URL:https://bismanelks.com/event/trivia-at-the-elks-season-6/2026-02-14/
CATEGORIES:Trivia
END:VEVENT
BEGIN:VEVENT
DTSTART;TZID=America/Chicago:20260214T173000
DTEND;TZID=America/Chicago:20260214T210000
DTSTAMP:20260421T013021
CREATED:20260128T192728Z
LAST-MODIFIED:20260128T192748Z
UID:10006766-1771090200-1771102800@bismanelks.com
SUMMARY:Valentine's Day Buffett & Band
DESCRIPTION:Bring your sweetheart out for an evening of dining and dancing. \nBuffet in the dining room includes 10 oz. prime rib\, shrimp scampi\, chicken alfredo pasta\,\nau gratin potato with bacon\, roasted asparagus & mushrooms\,\nhouse salad\, mixed fruit\, garlic toast & pate\, and Oreo cheesecake dessert. \n$45/person or $80/couple\nNo reservations will be taken.  First come\, first serve at tables.\nWe will have seating set up in old dining room\, the Speakeasy Lounge\, and Lodge Floor.\nOpen to all ages  (do not need to be 21). Open to the public. \nBig Al’s Band will be playing on the lodge floor from 7:00 to 9:00 pm. \nPLEASE NOTE: Feb 14th will be buffet only. No Lounge or Bar Menu. No bar pizzas.
URL:https://bismanelks.com/event/valentines-day-buffett-band/
CATEGORIES:Family Friendly,Live Music,Open to the Public
END:VEVENT
END:VCALENDAR