BEGIN:VCALENDAR
VERSION:2.0
PRODID:-//Elks Lodge 1199 - ECPv6.15.20//NONSGML v1.0//EN
CALSCALE:GREGORIAN
METHOD:PUBLISH
X-WR-CALNAME:Elks Lodge 1199
X-ORIGINAL-URL:https://bismanelks.com
X-WR-CALDESC:Events for Elks Lodge 1199
REFRESH-INTERVAL;VALUE=DURATION:PT1H
X-Robots-Tag:noindex
X-PUBLISHED-TTL:PT1H
BEGIN:VTIMEZONE
TZID:America/Chicago
BEGIN:DAYLIGHT
TZOFFSETFROM:-0600
TZOFFSETTO:-0500
TZNAME:CDT
DTSTART:20240310T080000
END:DAYLIGHT
BEGIN:STANDARD
TZOFFSETFROM:-0500
TZOFFSETTO:-0600
TZNAME:CST
DTSTART:20241103T070000
END:STANDARD
BEGIN:DAYLIGHT
TZOFFSETFROM:-0600
TZOFFSETTO:-0500
TZNAME:CDT
DTSTART:20250309T080000
END:DAYLIGHT
BEGIN:STANDARD
TZOFFSETFROM:-0500
TZOFFSETTO:-0600
TZNAME:CST
DTSTART:20251102T070000
END:STANDARD
BEGIN:DAYLIGHT
TZOFFSETFROM:-0600
TZOFFSETTO:-0500
TZNAME:CDT
DTSTART:20260308T080000
END:DAYLIGHT
BEGIN:STANDARD
TZOFFSETFROM:-0500
TZOFFSETTO:-0600
TZNAME:CST
DTSTART:20261101T070000
END:STANDARD
END:VTIMEZONE
BEGIN:VEVENT
DTSTART;VALUE=DATE:20251123
DTEND;VALUE=DATE:20251124
DTSTAMP:20260420T025415
CREATED:20241010T195941Z
LAST-MODIFIED:20260402T163410Z
UID:10005577-1763856000-1763942399@bismanelks.com
SUMMARY:Closed
DESCRIPTION:We are closed every Sunday and Monday with the exception to occasional events
URL:https://bismanelks.com/event/closed-2/2025-11-23/
END:VEVENT
BEGIN:VEVENT
DTSTART;VALUE=DATE:20251124
DTEND;VALUE=DATE:20251125
DTSTAMP:20260420T025415
CREATED:20241010T195941Z
LAST-MODIFIED:20260402T163410Z
UID:10005578-1763942400-1764028799@bismanelks.com
SUMMARY:Closed
DESCRIPTION:We are closed every Sunday and Monday with the exception to occasional events
URL:https://bismanelks.com/event/closed-2/2025-11-24/
END:VEVENT
BEGIN:VEVENT
DTSTART;TZID=America/Chicago:20251125T180000
DTEND;TZID=America/Chicago:20251125T210000
DTSTAMP:20260420T025415
CREATED:20240405T171804Z
LAST-MODIFIED:20251209T181627Z
UID:10005105-1764093600-1764104400@bismanelks.com
SUMMARY:Blues Jam
DESCRIPTION:Come on down to the Elks for our Blues Jam every Tuesday 6pm – 9pm\, in the 1199 Speakeasy. This weekly Blues Jam is hosted by Jennifer Lyn & The Groove Revival and is open to musicians and music enthusiasts 21 years of age and older. Guitar amps\, bass\, amp\, keyboard\, vocal mics\, and drums are provided. All musicians are welcome! \nThe Blues Jam will move to the patio in May for the summer months. \nAny changes to the Blues Jam schedule will be posted to our Facebook page.
URL:https://bismanelks.com/event/blues-jam-at-elks-lodge-1199/2025-11-25/
CATEGORIES:Blues Jam,Live Music
END:VEVENT
BEGIN:VEVENT
DTSTART;TZID=America/Chicago:20251126T180000
DTEND;TZID=America/Chicago:20251126T200000
DTSTAMP:20260420T025415
CREATED:20251013T193635Z
LAST-MODIFIED:20251119T180214Z
UID:10006544-1764180000-1764187200@bismanelks.com
SUMMARY:Tom and Jerry's
DESCRIPTION:Free Tom & Jerry’s for Members & their guests on the Lodge Floor. \nAs a special THANK YOU for all MEMEBERS (and their invited guests. Guests must be accompanied by member)\, we are serving FREE Tom & Jerry Cocktails from 6-8pm on Wednesday\, November 26\, 2025 (served on the Lodge Floor).\n \nWe will have a buffet set up in the Speakeasy Lounge. This will be the ONLY food served for both TR Bar and downstairs guests\, no ordering off menu this night.\nOfficers will be selling 50/50 tickets.\n \nIf you need to renew your membership\, you can call or stop down during business hours to pay and get your new card.\n \nIf you are interested in becoming a member\, reach out to a fellow Elks Member on how to sign up. Or if you don’t know any\, stop down to our Bismarck office during business hours and ask for a tour and sign up (Tuesday-Friday: 9:30am-5pm).\n 
URL:https://bismanelks.com/event/tom-and-jerrys-2/
END:VEVENT
BEGIN:VEVENT
DTSTART;VALUE=DATE:20251127
DTEND;VALUE=DATE:20251128
DTSTAMP:20260420T025415
CREATED:20251126T165120Z
LAST-MODIFIED:20251126T165400Z
UID:10006608-1764201600-1764287999@bismanelks.com
SUMMARY:CLOSED Thanksgiving
DESCRIPTION:We are closed for Thanksgiving to spend time with our family and friends. We hope you have a wonderful day!
URL:https://bismanelks.com/event/closed-4/2025-11-27/
END:VEVENT
BEGIN:VEVENT
DTSTART;TZID=America/Chicago:20251129T120000
DTEND;TZID=America/Chicago:20251129T140000
DTSTAMP:20260420T025415
CREATED:20251013T173026Z
LAST-MODIFIED:20251015T165319Z
UID:10006502-1764417600-1764424800@bismanelks.com
SUMMARY:Seafood Saturday
DESCRIPTION:Seafood Saturday at the Bismarck-Mandan Elks #1199 is every week from October to March in the TR Bar (21 and over only) AND in the Speakeasy Lounge (family friendly and handicap accessible) from 12:00-2:00pm.  There are seafood and non-seafood options (shown in menu below) plus one Seafood Special that changes every week. \nVisit our Facebook page to see what the weekly Seafood Special is (usually posted the day before when possible): https://www.facebook.com/elkslodge \nTips left for the Volunteer Team running Seafood Saturday each week will be donated to the team’s charity of choice. 
URL:https://bismanelks.com/event/seafood-saturday-elks-lodge-1199/2025-11-29/
END:VEVENT
BEGIN:VEVENT
DTSTART;TZID=America/Chicago:20251129T143000
DTEND;TZID=America/Chicago:20251129T163000
DTSTAMP:20260420T025415
CREATED:20251013T182451Z
LAST-MODIFIED:20251013T182451Z
UID:10006525-1764426600-1764433800@bismanelks.com
SUMMARY:Trivia at the Elks (Season 5)
DESCRIPTION:Join us every Saturday in the TR Bar for Trivia Saturdays at 2:30pm. (please note the new start time\, used to be at 2pm)\n \nTeams can have up to 8 people.\nParticipate each week. Teams have a chance to win a round of drinks in each half and there will be a gift card for the overall point winner for the day.\n \nIn addition to regular single Saturdays\, team points will be accumulated through each week in “Seasons”.\n\nSeason 5: October 18 – December 20 (no Trivia on Nov 8th)\nSeason 6: January 3 – March 29\n\nAt the end of each season\, the top 3 teams won a gift card for their accumulated points. \nMinor change this year:  Teams will need to bring their answer sheets to the gaming table to be checked.  We will not be going to each table to grade sheets this year. \n \nHappy Hour specials from 2-4pm.
URL:https://bismanelks.com/event/trivia-at-the-elks-season-5/2025-11-29/
CATEGORIES:Trivia
END:VEVENT
END:VCALENDAR