BEGIN:VCALENDAR
VERSION:2.0
PRODID:-//Elks Lodge 1199 - ECPv6.15.20//NONSGML v1.0//EN
CALSCALE:GREGORIAN
METHOD:PUBLISH
X-WR-CALNAME:Elks Lodge 1199
X-ORIGINAL-URL:https://bismanelks.com
X-WR-CALDESC:Events for Elks Lodge 1199
REFRESH-INTERVAL;VALUE=DURATION:PT1H
X-Robots-Tag:noindex
X-PUBLISHED-TTL:PT1H
BEGIN:VTIMEZONE
TZID:America/Chicago
BEGIN:DAYLIGHT
TZOFFSETFROM:-0600
TZOFFSETTO:-0500
TZNAME:CDT
DTSTART:20220313T080000
END:DAYLIGHT
BEGIN:STANDARD
TZOFFSETFROM:-0500
TZOFFSETTO:-0600
TZNAME:CST
DTSTART:20221106T070000
END:STANDARD
BEGIN:DAYLIGHT
TZOFFSETFROM:-0600
TZOFFSETTO:-0500
TZNAME:CDT
DTSTART:20230312T080000
END:DAYLIGHT
BEGIN:STANDARD
TZOFFSETFROM:-0500
TZOFFSETTO:-0600
TZNAME:CST
DTSTART:20231105T070000
END:STANDARD
BEGIN:DAYLIGHT
TZOFFSETFROM:-0600
TZOFFSETTO:-0500
TZNAME:CDT
DTSTART:20240310T080000
END:DAYLIGHT
BEGIN:STANDARD
TZOFFSETFROM:-0500
TZOFFSETTO:-0600
TZNAME:CST
DTSTART:20241103T070000
END:STANDARD
END:VTIMEZONE
BEGIN:VEVENT
DTSTART;TZID=America/Chicago:20230919T180000
DTEND;TZID=America/Chicago:20230919T210000
DTSTAMP:20260423T063008
CREATED:20220512T164614Z
LAST-MODIFIED:20221229T173819Z
UID:10004320-1695146400-1695157200@bismanelks.com
SUMMARY:Blues Jam
DESCRIPTION:Come on down to the Elks for our Blues Jam every Tuesday 6pm – 9pm\, in the 1199 Speakeasy. If you are a musician\, bring your instrument and sign up to Jam. (Must be 21) \nThe Blues Jam will move to the patio in May.
URL:https://bismanelks.com/event/blues-jam-13/2023-09-19/
END:VEVENT
BEGIN:VEVENT
DTSTART;TZID=America/Chicago:20230920T180000
DTEND;TZID=America/Chicago:20230920T210000
DTSTAMP:20260423T063008
CREATED:20230912T205920Z
LAST-MODIFIED:20230912T210530Z
UID:10005003-1695232800-1695243600@bismanelks.com
SUMMARY:JJ & The All Stars
DESCRIPTION:
URL:https://bismanelks.com/event/jj-the-all-stars/
END:VEVENT
BEGIN:VEVENT
DTSTART;TZID=America/Chicago:20230921T173000
DTEND;TZID=America/Chicago:20230921T203000
DTSTAMP:20260423T063008
CREATED:20230912T202112Z
LAST-MODIFIED:20251230T195640Z
UID:10004659-1695317400-1695328200@bismanelks.com
SUMMARY:2 for $20 Burgers
DESCRIPTION:
URL:https://bismanelks.com/event/2-for-20-burgers/2023-09-21/
END:VEVENT
BEGIN:VEVENT
DTSTART;TZID=America/Chicago:20230922T180000
DTEND;TZID=America/Chicago:20230922T210000
DTSTAMP:20260423T063008
CREATED:20230912T210108Z
LAST-MODIFIED:20230912T210108Z
UID:10005004-1695405600-1695416400@bismanelks.com
SUMMARY:Friday Night Buffet
DESCRIPTION:Call and Reserve your spot today
URL:https://bismanelks.com/event/friday-night-buffet/
END:VEVENT
BEGIN:VEVENT
DTSTART;TZID=America/Chicago:20230923T120000
DTEND;TZID=America/Chicago:20230923T140000
DTSTAMP:20260423T063008
CREATED:20230912T202443Z
LAST-MODIFIED:20230912T202644Z
UID:10004920-1695470400-1695477600@bismanelks.com
SUMMARY:Burger Bar
DESCRIPTION:From Noon – 2pm
URL:https://bismanelks.com/event/burger-bar/2023-09-23/
END:VEVENT
END:VCALENDAR