BEGIN:VCALENDAR
VERSION:2.0
PRODID:-//Elks Lodge 1199 - ECPv6.15.20//NONSGML v1.0//EN
CALSCALE:GREGORIAN
METHOD:PUBLISH
X-WR-CALNAME:Elks Lodge 1199
X-ORIGINAL-URL:https://bismanelks.com
X-WR-CALDESC:Events for Elks Lodge 1199
REFRESH-INTERVAL;VALUE=DURATION:PT1H
X-Robots-Tag:noindex
X-PUBLISHED-TTL:PT1H
BEGIN:VTIMEZONE
TZID:America/Chicago
BEGIN:DAYLIGHT
TZOFFSETFROM:-0600
TZOFFSETTO:-0500
TZNAME:CDT
DTSTART:20210314T080000
END:DAYLIGHT
BEGIN:STANDARD
TZOFFSETFROM:-0500
TZOFFSETTO:-0600
TZNAME:CST
DTSTART:20211107T070000
END:STANDARD
BEGIN:DAYLIGHT
TZOFFSETFROM:-0600
TZOFFSETTO:-0500
TZNAME:CDT
DTSTART:20220313T080000
END:DAYLIGHT
BEGIN:STANDARD
TZOFFSETFROM:-0500
TZOFFSETTO:-0600
TZNAME:CST
DTSTART:20221106T070000
END:STANDARD
BEGIN:DAYLIGHT
TZOFFSETFROM:-0600
TZOFFSETTO:-0500
TZNAME:CDT
DTSTART:20230312T080000
END:DAYLIGHT
BEGIN:STANDARD
TZOFFSETFROM:-0500
TZOFFSETTO:-0600
TZNAME:CST
DTSTART:20231105T070000
END:STANDARD
END:VTIMEZONE
BEGIN:VEVENT
DTSTART;TZID=America/Chicago:20220828T180000
DTEND;TZID=America/Chicago:20220828T210000
DTSTAMP:20260423T045027
CREATED:20190401T194519Z
LAST-MODIFIED:20190401T194519Z
UID:10003976-1661709600-1661720400@bismanelks.com
SUMMARY:Live Music in our new Speakeasy Lounge
DESCRIPTION:We will be having Live Music in our new Speakeasy Lounge from 6 pm – 9 pm with a limited menu. These are the dates for the Live Music in the Speakeasy Lounge: April 2\, 9\, 10\, 11\, 16\, 18\, 23\, and 25. Come and check out the new lounge while enjoying live music and great food.
URL:https://bismanelks.com/event/live-music-in-our-new-speakeasy-lounge/2022-08-28/
LOCATION:1199 Lounge
END:VEVENT
BEGIN:VEVENT
DTSTART;TZID=America/Chicago:20220829T180000
DTEND;TZID=America/Chicago:20220829T210000
DTSTAMP:20260423T045027
CREATED:20190401T194519Z
LAST-MODIFIED:20190401T194519Z
UID:10003977-1661796000-1661806800@bismanelks.com
SUMMARY:Live Music in our new Speakeasy Lounge
DESCRIPTION:We will be having Live Music in our new Speakeasy Lounge from 6 pm – 9 pm with a limited menu. These are the dates for the Live Music in the Speakeasy Lounge: April 2\, 9\, 10\, 11\, 16\, 18\, 23\, and 25. Come and check out the new lounge while enjoying live music and great food.
URL:https://bismanelks.com/event/live-music-in-our-new-speakeasy-lounge/2022-08-29/
LOCATION:1199 Lounge
END:VEVENT
BEGIN:VEVENT
DTSTART;TZID=America/Chicago:20220830T180000
DTEND;TZID=America/Chicago:20220830T210000
DTSTAMP:20260423T045027
CREATED:20190401T194519Z
LAST-MODIFIED:20190401T194519Z
UID:10003978-1661882400-1661893200@bismanelks.com
SUMMARY:Live Music in our new Speakeasy Lounge
DESCRIPTION:We will be having Live Music in our new Speakeasy Lounge from 6 pm – 9 pm with a limited menu. These are the dates for the Live Music in the Speakeasy Lounge: April 2\, 9\, 10\, 11\, 16\, 18\, 23\, and 25. Come and check out the new lounge while enjoying live music and great food.
URL:https://bismanelks.com/event/live-music-in-our-new-speakeasy-lounge/2022-08-30/
LOCATION:1199 Lounge
END:VEVENT
BEGIN:VEVENT
DTSTART;TZID=America/Chicago:20220830T180000
DTEND;TZID=America/Chicago:20220830T210000
DTSTAMP:20260423T045027
CREATED:20220512T164614Z
LAST-MODIFIED:20221229T173819Z
UID:10004265-1661882400-1661893200@bismanelks.com
SUMMARY:Blues Jam
DESCRIPTION:Come on down to the Elks for our Blues Jam every Tuesday 6pm – 9pm\, in the 1199 Speakeasy. If you are a musician\, bring your instrument and sign up to Jam. (Must be 21) \nThe Blues Jam will move to the patio in May.
URL:https://bismanelks.com/event/blues-jam-13/2022-08-30/
END:VEVENT
BEGIN:VEVENT
DTSTART;TZID=America/Chicago:20220831T180000
DTEND;TZID=America/Chicago:20220831T210000
DTSTAMP:20260423T045027
CREATED:20190401T194519Z
LAST-MODIFIED:20190401T194519Z
UID:10003979-1661968800-1661979600@bismanelks.com
SUMMARY:Live Music in our new Speakeasy Lounge
DESCRIPTION:We will be having Live Music in our new Speakeasy Lounge from 6 pm – 9 pm with a limited menu. These are the dates for the Live Music in the Speakeasy Lounge: April 2\, 9\, 10\, 11\, 16\, 18\, 23\, and 25. Come and check out the new lounge while enjoying live music and great food.
URL:https://bismanelks.com/event/live-music-in-our-new-speakeasy-lounge/2022-08-31/
LOCATION:1199 Lounge
END:VEVENT
BEGIN:VEVENT
DTSTART;TZID=America/Chicago:20220831T180000
DTEND;TZID=America/Chicago:20220831T210000
DTSTAMP:20260423T045027
CREATED:20220701T161306Z
LAST-MODIFIED:20220701T161306Z
UID:10004343-1661968800-1661979600@bismanelks.com
SUMMARY:Rock Creek Revival (2 Piece)
DESCRIPTION:Come on down for some live music by Rock Creek Revival (2 piece) on our Patio.
URL:https://bismanelks.com/event/rock-creek-revival-2-piece/
END:VEVENT
BEGIN:VEVENT
DTSTART;TZID=America/Chicago:20220901T180000
DTEND;TZID=America/Chicago:20220901T210000
DTSTAMP:20260423T045027
CREATED:20190401T194519Z
LAST-MODIFIED:20190401T194519Z
UID:10003980-1662055200-1662066000@bismanelks.com
SUMMARY:Live Music in our new Speakeasy Lounge
DESCRIPTION:We will be having Live Music in our new Speakeasy Lounge from 6 pm – 9 pm with a limited menu. These are the dates for the Live Music in the Speakeasy Lounge: April 2\, 9\, 10\, 11\, 16\, 18\, 23\, and 25. Come and check out the new lounge while enjoying live music and great food.
URL:https://bismanelks.com/event/live-music-in-our-new-speakeasy-lounge/2022-09-01/
LOCATION:1199 Lounge
END:VEVENT
BEGIN:VEVENT
DTSTART;TZID=America/Chicago:20220902T180000
DTEND;TZID=America/Chicago:20220902T210000
DTSTAMP:20260423T045027
CREATED:20190401T194519Z
LAST-MODIFIED:20190401T194519Z
UID:10003981-1662141600-1662152400@bismanelks.com
SUMMARY:Live Music in our new Speakeasy Lounge
DESCRIPTION:We will be having Live Music in our new Speakeasy Lounge from 6 pm – 9 pm with a limited menu. These are the dates for the Live Music in the Speakeasy Lounge: April 2\, 9\, 10\, 11\, 16\, 18\, 23\, and 25. Come and check out the new lounge while enjoying live music and great food.
URL:https://bismanelks.com/event/live-music-in-our-new-speakeasy-lounge/2022-09-02/
LOCATION:1199 Lounge
END:VEVENT
BEGIN:VEVENT
DTSTART;TZID=America/Chicago:20220903T180000
DTEND;TZID=America/Chicago:20220903T210000
DTSTAMP:20260423T045027
CREATED:20190401T194519Z
LAST-MODIFIED:20190401T194519Z
UID:10003982-1662228000-1662238800@bismanelks.com
SUMMARY:Live Music in our new Speakeasy Lounge
DESCRIPTION:We will be having Live Music in our new Speakeasy Lounge from 6 pm – 9 pm with a limited menu. These are the dates for the Live Music in the Speakeasy Lounge: April 2\, 9\, 10\, 11\, 16\, 18\, 23\, and 25. Come and check out the new lounge while enjoying live music and great food.
URL:https://bismanelks.com/event/live-music-in-our-new-speakeasy-lounge/2022-09-03/
LOCATION:1199 Lounge
END:VEVENT
END:VCALENDAR