BEGIN:VCALENDAR
VERSION:2.0
PRODID:-//Elks Lodge 1199 - ECPv6.15.20//NONSGML v1.0//EN
CALSCALE:GREGORIAN
METHOD:PUBLISH
X-WR-CALNAME:Elks Lodge 1199
X-ORIGINAL-URL:https://bismanelks.com
X-WR-CALDESC:Events for Elks Lodge 1199
REFRESH-INTERVAL;VALUE=DURATION:PT1H
X-Robots-Tag:noindex
X-PUBLISHED-TTL:PT1H
BEGIN:VTIMEZONE
TZID:America/Chicago
BEGIN:DAYLIGHT
TZOFFSETFROM:-0600
TZOFFSETTO:-0500
TZNAME:CDT
DTSTART:20240310T080000
END:DAYLIGHT
BEGIN:STANDARD
TZOFFSETFROM:-0500
TZOFFSETTO:-0600
TZNAME:CST
DTSTART:20241103T070000
END:STANDARD
BEGIN:DAYLIGHT
TZOFFSETFROM:-0600
TZOFFSETTO:-0500
TZNAME:CDT
DTSTART:20250309T080000
END:DAYLIGHT
BEGIN:STANDARD
TZOFFSETFROM:-0500
TZOFFSETTO:-0600
TZNAME:CST
DTSTART:20251102T070000
END:STANDARD
BEGIN:DAYLIGHT
TZOFFSETFROM:-0600
TZOFFSETTO:-0500
TZNAME:CDT
DTSTART:20260308T080000
END:DAYLIGHT
BEGIN:STANDARD
TZOFFSETFROM:-0500
TZOFFSETTO:-0600
TZNAME:CST
DTSTART:20261101T070000
END:STANDARD
END:VTIMEZONE
BEGIN:VEVENT
DTSTART;VALUE=DATE:20250725
DTEND;VALUE=DATE:20250728
DTSTAMP:20260420T163552
CREATED:20250701T204435Z
LAST-MODIFIED:20250701T204435Z
UID:10006479-1753401600-1753660799@bismanelks.com
SUMMARY:ND Elks State Convention
DESCRIPTION:During the 3 day annual convention\, we will be welcoming in Exalted Rulers\, Officers\, PERs\, and their guests from all the North Dakota Elks Lodges to join us in meetings\, misc. events\, and banquets.  Fine Dining in our Speakeasy Lounge will be closed both Friday & Saturday but the TR bar will remain open. 
URL:https://bismanelks.com/event/nd-elks-state-convention/
END:VEVENT
BEGIN:VEVENT
DTSTART;VALUE=DATE:20250726
DTEND;VALUE=DATE:20250727
DTSTAMP:20260420T163552
CREATED:20250701T204039Z
LAST-MODIFIED:20250701T204039Z
UID:10006478-1753488000-1753574399@bismanelks.com
SUMMARY:Fine Dining CLOSED
DESCRIPTION:𝐅𝐑𝐈𝐄𝐍𝐃𝐋𝐘 𝐑𝐄𝐌𝐈𝐍𝐃𝐄𝐑𝐒: 𝐃𝐮𝐫𝐢𝐧𝐠 Annual ND State Elks Convention (July 25-27):\n\nFine Dining in the Speakeasy Lounge will be CLOSED (both Friday and Saturday nights)\, BUT the TR Bar will remain open and we will have the usual evening dinner menu (5:30p-9p) in the TR Bar.
URL:https://bismanelks.com/event/fine-dining-closed-2/2025-07-26/
END:VEVENT
END:VCALENDAR