BEGIN:VCALENDAR
VERSION:2.0
PRODID:-//Elks Lodge 1199 - ECPv6.15.20//NONSGML v1.0//EN
CALSCALE:GREGORIAN
METHOD:PUBLISH
X-ORIGINAL-URL:https://bismanelks.com
X-WR-CALDESC:Events for Elks Lodge 1199
REFRESH-INTERVAL;VALUE=DURATION:PT1H
X-Robots-Tag:noindex
X-PUBLISHED-TTL:PT1H
BEGIN:VTIMEZONE
TZID:America/Chicago
BEGIN:DAYLIGHT
TZOFFSETFROM:-0600
TZOFFSETTO:-0500
TZNAME:CDT
DTSTART:20240310T080000
END:DAYLIGHT
BEGIN:STANDARD
TZOFFSETFROM:-0500
TZOFFSETTO:-0600
TZNAME:CST
DTSTART:20241103T070000
END:STANDARD
BEGIN:DAYLIGHT
TZOFFSETFROM:-0600
TZOFFSETTO:-0500
TZNAME:CDT
DTSTART:20250309T080000
END:DAYLIGHT
BEGIN:STANDARD
TZOFFSETFROM:-0500
TZOFFSETTO:-0600
TZNAME:CST
DTSTART:20251102T070000
END:STANDARD
BEGIN:DAYLIGHT
TZOFFSETFROM:-0600
TZOFFSETTO:-0500
TZNAME:CDT
DTSTART:20260308T080000
END:DAYLIGHT
BEGIN:STANDARD
TZOFFSETFROM:-0500
TZOFFSETTO:-0600
TZNAME:CST
DTSTART:20261101T070000
END:STANDARD
END:VTIMEZONE
BEGIN:VEVENT
DTSTART;TZID=America/Chicago:20250530T113000
DTEND;TZID=America/Chicago:20250530T163000
DTSTAMP:20260423T135850
CREATED:20250422T225424Z
LAST-MODIFIED:20250422T225424Z
UID:10006252-1748604600-1748622600@bismanelks.com
SUMMARY:20th Annual 4 Person Golf Scramble
DESCRIPTION:Registration form can be found on page 6 of the April-May newsletter.  Form and payment to be turned into Bismarck Elks Office (Tuesday-Friday: 9:30a-5:00p) \nOpen to the first 30 teams. \nAll proceeds go to Elk’s Charities. \nRegistration is at 11:30am \nShotgun Start at 12:30pm. \nFor more info call Keith Ulmer at 701-202-9008.
URL:https://bismanelks.com/event/20th-annual-4-person-golf-scramble/
END:VEVENT
END:VCALENDAR