BEGIN:VCALENDAR
VERSION:2.0
PRODID:-//Elks Lodge 1199 - ECPv6.15.20//NONSGML v1.0//EN
CALSCALE:GREGORIAN
METHOD:PUBLISH
X-ORIGINAL-URL:https://bismanelks.com
X-WR-CALDESC:Events for Elks Lodge 1199
REFRESH-INTERVAL;VALUE=DURATION:PT1H
X-Robots-Tag:noindex
X-PUBLISHED-TTL:PT1H
BEGIN:VTIMEZONE
TZID:America/Chicago
BEGIN:DAYLIGHT
TZOFFSETFROM:-0600
TZOFFSETTO:-0500
TZNAME:CDT
DTSTART:20240310T080000
END:DAYLIGHT
BEGIN:STANDARD
TZOFFSETFROM:-0500
TZOFFSETTO:-0600
TZNAME:CST
DTSTART:20241103T070000
END:STANDARD
BEGIN:DAYLIGHT
TZOFFSETFROM:-0600
TZOFFSETTO:-0500
TZNAME:CDT
DTSTART:20250309T080000
END:DAYLIGHT
BEGIN:STANDARD
TZOFFSETFROM:-0500
TZOFFSETTO:-0600
TZNAME:CST
DTSTART:20251102T070000
END:STANDARD
BEGIN:DAYLIGHT
TZOFFSETFROM:-0600
TZOFFSETTO:-0500
TZNAME:CDT
DTSTART:20260308T080000
END:DAYLIGHT
BEGIN:STANDARD
TZOFFSETFROM:-0500
TZOFFSETTO:-0600
TZNAME:CST
DTSTART:20261101T070000
END:STANDARD
END:VTIMEZONE
BEGIN:VEVENT
DTSTART;TZID=America/Chicago:20250529T173000
DTEND;TZID=America/Chicago:20250529T203000
DTSTAMP:20260424T103814
CREATED:20230912T202112Z
LAST-MODIFIED:20251230T195640Z
UID:10004747-1748539800-1748550600@bismanelks.com
SUMMARY:2 for $20 Burgers
DESCRIPTION:
URL:https://bismanelks.com/event/2-for-20-burgers/2025-05-29/
END:VEVENT
BEGIN:VEVENT
DTSTART;TZID=America/Chicago:20250529T183000
DTEND;TZID=America/Chicago:20250529T200000
DTSTAMP:20260424T103814
CREATED:20250520T212057Z
LAST-MODIFIED:20250520T212057Z
UID:10006292-1748543400-1748548800@bismanelks.com
SUMMARY:PER Meeting
DESCRIPTION:in the PER Room.
URL:https://bismanelks.com/event/per-meeting-6/
LOCATION:PER Room
END:VEVENT
END:VCALENDAR