BEGIN:VCALENDAR
VERSION:2.0
PRODID:-//Elks Lodge 1199 - ECPv6.15.20//NONSGML v1.0//EN
CALSCALE:GREGORIAN
METHOD:PUBLISH
X-ORIGINAL-URL:https://bismanelks.com
X-WR-CALDESC:Events for Elks Lodge 1199
REFRESH-INTERVAL;VALUE=DURATION:PT1H
X-Robots-Tag:noindex
X-PUBLISHED-TTL:PT1H
BEGIN:VTIMEZONE
TZID:America/Chicago
BEGIN:DAYLIGHT
TZOFFSETFROM:-0600
TZOFFSETTO:-0500
TZNAME:CDT
DTSTART:20200308T080000
END:DAYLIGHT
BEGIN:STANDARD
TZOFFSETFROM:-0500
TZOFFSETTO:-0600
TZNAME:CST
DTSTART:20201101T070000
END:STANDARD
BEGIN:DAYLIGHT
TZOFFSETFROM:-0600
TZOFFSETTO:-0500
TZNAME:CDT
DTSTART:20210314T080000
END:DAYLIGHT
BEGIN:STANDARD
TZOFFSETFROM:-0500
TZOFFSETTO:-0600
TZNAME:CST
DTSTART:20211107T070000
END:STANDARD
BEGIN:DAYLIGHT
TZOFFSETFROM:-0600
TZOFFSETTO:-0500
TZNAME:CDT
DTSTART:20220313T080000
END:DAYLIGHT
BEGIN:STANDARD
TZOFFSETFROM:-0500
TZOFFSETTO:-0600
TZNAME:CST
DTSTART:20221106T070000
END:STANDARD
END:VTIMEZONE
BEGIN:VEVENT
DTSTART;TZID=America/Chicago:20210804T180000
DTEND;TZID=America/Chicago:20210804T210000
DTSTAMP:20260424T155254
CREATED:20190401T194519Z
LAST-MODIFIED:20190401T194519Z
UID:10003587-1628100000-1628110800@bismanelks.com
SUMMARY:Live Music in our new Speakeasy Lounge
DESCRIPTION:We will be having Live Music in our new Speakeasy Lounge from 6 pm – 9 pm with a limited menu. These are the dates for the Live Music in the Speakeasy Lounge: April 2\, 9\, 10\, 11\, 16\, 18\, 23\, and 25. Come and check out the new lounge while enjoying live music and great food.
URL:https://bismanelks.com/event/live-music-in-our-new-speakeasy-lounge/2021-08-04/
LOCATION:1199 Lounge
END:VEVENT
BEGIN:VEVENT
DTSTART;TZID=America/Chicago:20210804T180000
DTEND;TZID=America/Chicago:20210804T210000
DTSTAMP:20260424T155254
CREATED:20210603T160113Z
LAST-MODIFIED:20210603T160113Z
UID:10004205-1628100000-1628110800@bismanelks.com
SUMMARY:KDB Trio
DESCRIPTION:KBD Trio will be playing on our Patio from 6pm-9pm. \nIf the weather is bad\, we will move into the Speakeasy Lounge. \nOur Patio Bar is limited and so is seating. \nThe regular Bar Menu is available to order from.
URL:https://bismanelks.com/event/kdb-trio-2/
END:VEVENT
END:VCALENDAR